BEGIN:VCALENDAR
VERSION:2.0
PRODID:-//wp-events-plugin.com//7.0.4//EN
BEGIN:VEVENT
UID:11@traum-klaenge.de
DTSTART;TZID=Europe/Berlin:20230331T090000
DTEND;TZID=Europe/Berlin:20230405T170000
DTSTAMP:20221202T065157Z
URL:https://traum-klaenge.de/events/klangtherapeut-klangpaedagoge-bei-der-
 akademie-terramedus-koeln
SUMMARY:Klangtherapeut/Klangpädagoge bei  der Akademie Terramedus Köln
DESCRIPTION:Eine kompakte Intensivausbildung bei der Terramedus  Akademie 
 für Gesundheit. Es wird das Wissen um die Klangmassage\, den Einsatz der 
 Klangschalen in der Klangpädagogik\, sowie die Gruppenleitung bei Klangre
 isen vermittelt. 
ATTACH;FMTTYPE=image/jpeg:https://traum-klaenge.de/wp-content/uploads/2022
 /11/klangmassage_bg_smart.jpg
CATEGORIES:Seminare
LOCATION:Schulungszentrum: Terramedus Köln\, Machabäerstraße 28\, 50668 
 Köln\, Nordrhein- Westfalen\, Deutschland
X-APPLE-STRUCTURED-LOCATION;VALUE=URI;X-ADDRESS=Machabäerstraße 28\, 5066
 8 Köln\, Nordrhein- Westfalen\, Deutschland;X-APPLE-RADIUS=100;X-TITLE=Sc
 hulungszentrum: Terramedus Köln:geo:0,0
END:VEVENT
BEGIN:VTIMEZONE
TZID:Europe/Berlin
X-LIC-LOCATION:Europe/Berlin
BEGIN:DAYLIGHT
DTSTART:20230326T030000
TZOFFSETFROM:+0100
TZOFFSETTO:+0200
TZNAME:CEST
END:DAYLIGHT
END:VTIMEZONE
END:VCALENDAR