BEGIN:VCALENDAR
VERSION:2.0
PRODID:-//wp-events-plugin.com//7.0.4//EN
BEGIN:VEVENT
UID:20@traum-klaenge.de
DTSTART;TZID=Europe/Berlin:20230625T190000
DTEND;TZID=Europe/Berlin:20230625T203000
DTSTAMP:20221202T064312Z
URL:https://traum-klaenge.de/events/klangkonzert-im-heilstollen-neubulach
SUMMARY:Klangkonzert im Heilstollen Neubulach
DESCRIPTION:Ein Klangkonzert mit Uta Karen und Sanja-Maria Mempel\nBeim Kon
 zert verweben sich Oberton- und schwingungsreiche Klänge von Klangschalen
 \, Kristallklangschalen und Gongs mit meditativen Gesängen zu einer Berü
 hrung\, die Körper\, Seele und Geist gleichermaßen anspricht.
ATTACH;FMTTYPE=image/jpeg:https://traum-klaenge.de/wp-content/uploads/2022
 /12/sanja-heilstollen.jpg
CATEGORIES:Events
LOCATION:Heilstollen Neubulach ( Schwarzwald)\, Teinachtal-Touristik\, 7538
 7 Neubulach\, Baden- Württemberg\, Deutschland
X-APPLE-STRUCTURED-LOCATION;VALUE=URI;X-ADDRESS=Teinachtal-Touristik\, 7538
 7 Neubulach\, Baden- Württemberg\, Deutschland;X-APPLE-RADIUS=100;X-TITLE
 =Heilstollen Neubulach ( Schwarzwald):geo:0,0
END:VEVENT
BEGIN:VTIMEZONE
TZID:Europe/Berlin
X-LIC-LOCATION:Europe/Berlin
BEGIN:DAYLIGHT
DTSTART:20230326T030000
TZOFFSETFROM:+0100
TZOFFSETTO:+0200
TZNAME:CEST
END:DAYLIGHT
END:VTIMEZONE
END:VCALENDAR