BEGIN:VCALENDAR
VERSION:2.0
PRODID:-//wp-events-plugin.com//7.0.4//EN
BEGIN:VEVENT
UID:180@traum-klaenge.de
DTSTART;TZID=Europe/Berlin:20260621T190000
DTEND;TZID=Europe/Berlin:20260621T203000
DTSTAMP:20260323T081104Z
URL:https://traum-klaenge.de/events/klangkonzert-im-heilstollen-neubulach-
 4
SUMMARY:Klangkonzert im Heilstollen Neubulach
DESCRIPTION:Ein Klangkonzert mit Uta Karen Mempel\nBeim Konzert verweben si
 ch Oberton- und schwingungsreiche Klänge von Klangschalen\, Kristallklang
 schalen und Gongs mit meditativen Gesängen zu einer Berührung\, die Kör
 per\, Seele und Geist gleichermaßen anspricht.
ATTACH;FMTTYPE=image/jpeg:https://traum-klaenge.de/wp-content/uploads/2022
 /12/Klangkonzert-Heilstollen.jpg
CATEGORIES:Events
LOCATION:Heilstollen Neubulach ( Schwarzwald)\, Teinachtal-Touristik\, 7538
 7 Neubulach\, Baden- Württemberg\, Deutschland
X-APPLE-STRUCTURED-LOCATION;VALUE=URI;X-ADDRESS=Teinachtal-Touristik\, 7538
 7 Neubulach\, Baden- Württemberg\, Deutschland;X-APPLE-RADIUS=100;X-TITLE
 =Heilstollen Neubulach ( Schwarzwald):geo:0,0
END:VEVENT
BEGIN:VTIMEZONE
TZID:Europe/Berlin
X-LIC-LOCATION:Europe/Berlin
BEGIN:DAYLIGHT
DTSTART:20260329T030000
TZOFFSETFROM:+0100
TZOFFSETTO:+0200
TZNAME:CEST
END:DAYLIGHT
END:VTIMEZONE
END:VCALENDAR